BEGIN:VCALENDAR
VERSION:2.0
PRODID:-//Ronald McDonald House of Detroit - ECPv6.15.16//NONSGML v1.0//EN
CALSCALE:GREGORIAN
METHOD:PUBLISH
X-ORIGINAL-URL:https://rmhc-detroit.org
X-WR-CALDESC:Events for Ronald McDonald House of Detroit
REFRESH-INTERVAL;VALUE=DURATION:PT1H
X-Robots-Tag:noindex
X-PUBLISHED-TTL:PT1H
BEGIN:VTIMEZONE
TZID:UTC
BEGIN:STANDARD
TZOFFSETFROM:+0000
TZOFFSETTO:+0000
TZNAME:UTC
DTSTART:20240101T000000
END:STANDARD
END:VTIMEZONE
BEGIN:VEVENT
DTSTART;TZID=UTC:20250413T150000
DTEND;TZID=UTC:20250413T190000
DTSTAMP:20260422T092017
CREATED:20250114T212114Z
LAST-MODIFIED:20250114T212216Z
UID:9956-1744556400-1744570800@rmhc-detroit.org
SUMMARY:Hockey for the House
DESCRIPTION:“The Detroit Red Wings Alumni are taking on the locally loved Port Huron Border Cats Alumni in a charity game benefiting Ronald McDonald House of Detroit; giving families of ill or injured children the support they need throughout their medical journey.” \n  \n  \nBuy Tickets \n \n 
URL:https://rmhc-detroit.org/event/hockey-for-the-house/
LOCATION:McMorran Place Sports\, 701 McMorran Blvd\, Port Huron\, MI\, 48060\, United States
ATTACH;FMTTYPE=image/png:https://rmhc-detroit.org/wp-content/uploads/2025/01/cc8f9c-4e79-488f-ba01-f772a90b33f9.png
END:VEVENT
END:VCALENDAR