BEGIN:VCALENDAR
VERSION:2.0
PRODID:-//Ronald McDonald House of Detroit - ECPv6.15.16//NONSGML v1.0//EN
CALSCALE:GREGORIAN
METHOD:PUBLISH
X-WR-CALNAME:Ronald McDonald House of Detroit
X-ORIGINAL-URL:https://rmhc-detroit.org
X-WR-CALDESC:Events for Ronald McDonald House of Detroit
REFRESH-INTERVAL;VALUE=DURATION:PT1H
X-Robots-Tag:noindex
X-PUBLISHED-TTL:PT1H
BEGIN:VTIMEZONE
TZID:UTC
BEGIN:STANDARD
TZOFFSETFROM:+0000
TZOFFSETTO:+0000
TZNAME:UTC
DTSTART:20230101T000000
END:STANDARD
END:VTIMEZONE
BEGIN:VEVENT
DTSTART;TZID=UTC:20241110T180000
DTEND;TZID=UTC:20241110T210000
DTSTAMP:20260423T024244
CREATED:20240918T134538Z
LAST-MODIFIED:20240918T135105Z
UID:9920-1731261600-1731272400@rmhc-detroit.org
SUMMARY:Spare the Love
DESCRIPTION:Spare the Love\nCan you\, Spare the Love\, for the families of RMHC Detroit? Join us for a fun\, family friendly bowling fundraiser! Bowling\, raffles\, prizes\, and great food and drink! \n  \nRegister Now! \n  \nRonald McDonald House Charities Detroit is a non-profit organization that supports the families of ill or injured children\, while receiving medical care at hospitals in Metro Detroit. The House and it’s programs give parents\, guardians and siblings a comforting place to rest\, eat well and keep up on their personal care so they can remain close to their child and more involved with their medical teams. RMHC Detroit’s very own Red Shoe Crew invites you to a fun\, family friendly bowling night to support the hundreds of families we serve at RMHC Detroit each year. \nThe Red Shoe Crew is a group of compassionate\, young at heart\, working professionals that volunteer their time to support RMHC Detroit through volunteerism\, expanding awareness\, and raising funds with events just like this! Your participation is greatly appreciated and seen. Thank you! \n\n\n\nTICKETS\nSelected during registration\n\n\nSingle Bowler \n$55.00 (1 Attendee) \nTicket good for 1 bowler and dinner. Will be assigned to lane with other single bowler ticket holders. \n  \n\n\nReserved Lane for 6 Bowlers \nUnavailable \n  \n\n\nDinner Only Ticket \n$30.00 (1 Attendee) \nJoin the fun\, but sit out from bowling! \n  \n\n\nPlatinum Sponsor \n$1\,200.00 (6 Attendees) \nCompany receives lane reservation for 6 people\, top logo placement on banner\, social media recognition\, logo on trophy\, logo displayed on alley TV’s \nLimited Number of Tickets \n  \n\n\nGold Sponsor \n$750.00 (3 Attendees) \n3 Bowlers\, Middle logo placement on banner\, social media recognition\, logo displayed on alley TV’s \n  \n\n\nSilver Sponsor \n$500.00 (1 Attendee) \nLogo placement on banner\, social media recognition\, logo displayed on alley TV’s
URL:https://rmhc-detroit.org/event/9920/
LOCATION:Bowlero – Royal Oak\, 4209 Collige Hwy\, Royal oak\, MI\, 48073\, United States
ATTACH;FMTTYPE=image/jpeg:https://rmhc-detroit.org/wp-content/uploads/2024/09/behang-seventies.jpeg
END:VEVENT
END:VCALENDAR