BEGIN:VCALENDAR
VERSION:2.0
PRODID:-//Ronald McDonald House of Detroit - ECPv6.15.16//NONSGML v1.0//EN
CALSCALE:GREGORIAN
METHOD:PUBLISH
X-WR-CALNAME:Ronald McDonald House of Detroit
X-ORIGINAL-URL:https://rmhc-detroit.org
X-WR-CALDESC:Events for Ronald McDonald House of Detroit
REFRESH-INTERVAL;VALUE=DURATION:PT1H
X-Robots-Tag:noindex
X-PUBLISHED-TTL:PT1H
BEGIN:VTIMEZONE
TZID:UTC
BEGIN:STANDARD
TZOFFSETFROM:+0000
TZOFFSETTO:+0000
TZNAME:UTC
DTSTART:20230101T000000
END:STANDARD
END:VTIMEZONE
BEGIN:VEVENT
DTSTART;TZID=UTC:20240720T083000
DTEND;TZID=UTC:20240720T140000
DTSTAMP:20260423T213637
CREATED:20240220T210956Z
LAST-MODIFIED:20240220T210956Z
UID:9831-1721464200-1721484000@rmhc-detroit.org
SUMMARY:Escape To Belle Isle Run/Walk
DESCRIPTION:Join us again on beautiful Belle Isle for our annual Escape to Belle Isle races! Every dollar raised helps Ronald McDonald House Charities Detroit provide a comfortable place to stay and supportive programs for parents of hospitalized kids; relieving financial burdens and continuing care beyond the patient. For a sick kid\, there’s nothing better than the comfort of having mom and dad at their side. For mom and dad\, there’s comfort\, support\, and a place to call home when they have to travel for their critically ill or injured child to receive medical care. \n  \nFrequently Asked Questions: \nWhere can I pick up my packet? You can pick up your packet starting at 7:00 am on race day. Parking is free and close by in case you want to run back to your car to drop off or change into your t-shirt! \nWhat time do the races start? The 2 mile\, 5k\, and 10k all begin at 8:30 am. The Kid’s Fun Run begins when the other races have wrapped up\, around 10 am. \nCan I bring my stroller? What about my dog? We are stroller and furry-friend friendly! Bring your kiddos and your pup for a morning of family fun. \nHow far is the Kid’s Fun Run? The Kid’s Fun Run is about 400 yards. They get their own medals! \nDoes everyone get a shirt and a medal? Yes! All registered runners/walkers will receive a shirt and medal. \n  \nBuy Tickets Here!
URL:https://rmhc-detroit.org/event/escape-to-belle-isle-run-walk/
LOCATION:1 Casino Way Detroit\, MI US 48224\, 1 Casino Way\, Detroit\, MI\, 48224\, United States
ATTACH;FMTTYPE=image/jpeg:https://rmhc-detroit.org/wp-content/uploads/2024/02/raceBanner-Mc6z7lem-bLVtYh.jpg
END:VEVENT
END:VCALENDAR