BEGIN:VCALENDAR
VERSION:2.0
PRODID:-//Ronald McDonald House of Detroit - ECPv6.15.16//NONSGML v1.0//EN
CALSCALE:GREGORIAN
METHOD:PUBLISH
X-WR-CALNAME:Ronald McDonald House of Detroit
X-ORIGINAL-URL:https://rmhc-detroit.org
X-WR-CALDESC:Events for Ronald McDonald House of Detroit
REFRESH-INTERVAL;VALUE=DURATION:PT1H
X-Robots-Tag:noindex
X-PUBLISHED-TTL:PT1H
BEGIN:VTIMEZONE
TZID:UTC
BEGIN:STANDARD
TZOFFSETFROM:+0000
TZOFFSETTO:+0000
TZNAME:UTC
DTSTART:20240101T000000
END:STANDARD
END:VTIMEZONE
BEGIN:VEVENT
DTSTART;TZID=UTC:20250606T073000
DTEND;TZID=UTC:20250606T170000
DTSTAMP:20260420T073747
CREATED:20250114T164617Z
LAST-MODIFIED:20250114T164617Z
UID:9948-1749195000-1749229200@rmhc-detroit.org
SUMMARY:Vinni's 24th Annual Charity Golf Outing
DESCRIPTION:What began as a celebratory golf outing for his father\, Vinni\, 24 years ago\, has now evolved into a major fundraiser for Ronald McDonald House Charities Detroit! \nA golf outing hosted by a family\, in support of the families at RMHC Detroit! \nTHE ORCHARDS GOLF CLUB – 62900 Campground Rd\, Washington\, MI 48094 \n9am Shotgun Start – Check in begins at 7:30am\n18 Holes\nPutting Contest\nLongest Drive\nClosest to the Pin\nRaffles & Prizes \n  \nRegister \n  \nALL registered golfers will get a cart\, a golfers goodie bag\, lite breakfast\, lunch\, & dinner! \nIn 2003\, 42 people gathered to celebrate Vincent Adragna on his retirement from General Motors. That day filled with love from family and friends planted a seed in the heart of Vincent’s son\, Cary. \n“We have always believed in supporting children and the Ronald McDonald House helps not only the kids but eases the burden of the families\, so they can focus on providing love and care at all times. It’s a wonderful cause.”\nsays organizer Cary Adragna. \nTICKETS  Selected during registration \nEarly Bird Single Golfer \n$175.00 (1 Attendee) \nRegistration for single golfer. \nSingle Golfer \nUnavailable \nEarly Bird Foursome \n$700.00 (4 Attendees) \nRegistration for 4 Golfers \nFoursome \n$800.00 (4 Attendees) \nRegistration for 4 Golfers
URL:https://rmhc-detroit.org/event/vinnis-24th-annual-charity-golf-outing/
LOCATION:The Orchards Golf Club\, 62900 Campground Rd\, Washington\, 48094\, United States
ATTACH;FMTTYPE=image/png:https://rmhc-detroit.org/wp-content/uploads/2025/01/Untitled_design__10_.png
END:VEVENT
END:VCALENDAR